BEGIN:VCALENDAR
VERSION:2.0
PRODID:-//Tukios.com/
BEGIN:VEVENT
UID:dacead71-b5c0-48ef-ae0c-555a03618c9e@www.lathanfuneralhome.com
DTSTAMP:20260425T010336Z
DTSTART:20260501T180000Z
DTEND:20260501T184500Z
SUMMARY:Funeral Service
DESCRIPTION:
URL:https://www.lathanfuneralhome.com/obituaries/frances-richardson
LOCATION:Frankville Baptist Church     
GEO:0;0
END:VEVENT
END:VCALENDAR