BEGIN:VCALENDAR
VERSION:2.0
PRODID:-//Tukios.com/
BEGIN:VEVENT
UID:3ac93620-a2b4-4f1a-8bcf-ae6cf581ad35@www.lathanfuneralhome.com
DTSTAMP:20260425T010335Z
DTSTART:20260501T170000Z
DTEND:20260501T180000Z
SUMMARY:Visitation Public
DESCRIPTION:
URL:https://www.lathanfuneralhome.com/obituaries/frances-richardson
LOCATION:Frankville Baptist Church     
GEO:0;0
END:VEVENT
END:VCALENDAR