BEGIN:VCALENDAR
VERSION:2.0
PRODID:-//Tukios.com/
BEGIN:VEVENT
UID:61c33f80-8d80-488c-8f61-7759d3cdd78a@www.lathanfuneralhome.com
DTSTAMP:20260423T233621Z
DTSTART:20260426T200000Z
DTEND:20260426T210000Z
SUMMARY:Visitation Public
DESCRIPTION:
URL:https://www.lathanfuneralhome.com/obituaries/roxie-swiney
LOCATION:Chatom Church of God     
GEO:0;0
END:VEVENT
END:VCALENDAR